BEGIN:VCALENDAR
VERSION:2.0
PRODID:-//hacksw/handcal//NONSGML v1.0//EN
BEGIN:VEVENT
UID:Hove Tri 2026
DTSTAMP:20260420T020050Z
DTSTART:20260613T000000Z
DTEND:20260613T000000Z
SUMMARY:Hove Tri
DESCRIPTION;ENCODING=QUOTED-PRINTABLE:Hove Tri kaller seg Sørlandets vakreste utfordring og arrangeres i Raet nasjonalpark i Arendal. Konkurransen er for alle, fra nybegynnere til elite, for barn og voksne.=0D=0A
END:VEVENT
END:VCALENDAR
