BEGIN:VCALENDAR
VERSION:2.0
PRODID:-//hacksw/handcal//NONSGML v1.0//EN
BEGIN:VEVENT
UID:Soon Tryathlon 2026
DTSTAMP:20260420T020311Z
DTSTART:20260905T000000Z
DTEND:20260905T000000Z
SUMMARY:Soon Tryathlon
DESCRIPTION;ENCODING=QUOTED-PRINTABLE:Velkommen til Son
Son sentrum med sine trange gater, torg og yrende liv fra båtfolket gir en perfekt ramme for ditt sprint triathlon. Eller Tryathlon som vi kaller det. Dette er en utmerket mulighet til å teste ut triatlon for første gang, prøve å slå tiden fra i fjor eller rett og slett stille som støtteapparat og heiagjeng for de som er med.=0D=0A
END:VEVENT
END:VCALENDAR
