BEGIN:VCALENDAR
VERSION:2.0
PRODID:-//hacksw/handcal//NONSGML v1.0//EN
BEGIN:VEVENT
UID:VM Age Group langdistanse duatlon
DTSTAMP:20260420T100122Z
DTSTART:20260906T120000Z
DTEND:20260906T120000Z
SUMMARY:VM Age Group langdistanse duatlon 
DESCRIPTION;ENCODING=QUOTED-PRINTABLE:10 km løp - 150 km sykkel - 30 km løp&nbsp;=0D=0A
END:VEVENT
END:VCALENDAR
