BEGIN:VCALENDAR
VERSION:2.0
PRODID:-//hacksw/handcal//NONSGML v1.0//EN
BEGIN:VEVENT
UID:Åsane Indoor 2026
DTSTAMP:20260423T143614Z
DTSTART:20261121T120000Z
DTEND:20261121T120000Z
SUMMARY:Åsane Indoor 2026
DESCRIPTION;ENCODING=QUOTED-PRINTABLE:Fjorårets suksess gjenskapes i Bergen!&nbsp;=0D=0A
END:VEVENT
END:VCALENDAR
